Workbook

Sheet 📊 Dashboard
B2: 🏠 ECONOMÍA DEL HOGAR · 2026
B5: INGRESOS TOTALES | E5: GASTOS TOTALES | H5: BALANCE | K5: TASA DE AHORRO
B6: ='📅 Resumen Mensual'!C17 | E6: ='📅 Resumen Mensual'!D17 | H6: ='📅 Resumen Mensual'!E17 | K6: ='📅 Resumen Mensual'!F17
B9: 📅 INGRESOS VS GASTOS POR MES | H9: 🍕 DISTRIBUCIÓN DE GASTOS
B24: 📈 BALANCE MENSUAL
B50: Mes | C50: Ingresos | D50: Gastos | E50: Balance
B51: Enero | C51: ='📅 Resumen Mensual'!C5 | D51: ='📅 Resumen Mensual'!D5 | E51: ='📅 Resumen Mensual'!E5
B52: Febrero | C52: ='📅 Resumen Mensual'!C6 | D52: ='📅 Resumen Mensual'!D6 | E52: ='📅 Resumen Mensual'!E6
B53: Marzo | C53: ='📅 Resumen Mensual'!C7 | D53: ='📅 Resumen Mensual'!D7 | E53: ='📅 Resumen Mensual'!E7
B54: Abril | C54: ='📅 Resumen Mensual'!C8 | D54: ='📅 Resumen Mensual'!D8 | E54: ='📅 Resumen Mensual'!E8
B55: Mayo | C55: ='📅 Resumen Mensual'!C9 | D55: ='📅 Resumen Mensual'!D9 | E55: ='📅 Resumen Mensual'!E9
B56: Junio | C56: ='📅 Resumen Mensual'!C10 | D56: ='📅 Resumen Mensual'!D10 | E56: ='📅 Resumen Mensual'!E10
B57: Julio | C57: ='📅 Resumen Mensual'!C11 | D57: ='📅 Resumen Mensual'!D11 | E57: ='📅 Resumen Mensual'!E11
B58: Agosto | C58: ='📅 Resumen Mensual'!C12 | D58: ='📅 Resumen Mensual'!D12 | E58: ='📅 Resumen Mensual'!E12
B59: Septiembre | C59: ='📅 Resumen Mensual'!C13 | D59: ='📅 Resumen Mensual'!D13 | E59: ='📅 Resumen Mensual'!E13
B60: Octubre | C60: ='📅 Resumen Mensual'!C14 | D60: ='📅 Resumen Mensual'!D14 | E60: ='📅 Resumen Mensual'!E14
B61: Noviembre | C61: ='📅 Resumen Mensual'!C15 | D61: ='📅 Resumen Mensual'!D15 | E61: ='📅 Resumen Mensual'!E15
B62: Diciembre | C62: ='📅 Resumen Mensual'!C16 | D62: ='📅 Resumen Mensual'!D16 | E62: ='📅 Resumen Mensual'!E16
H64: Categoría | I64: Total
H65: Supermercado / Comida | I65: =SUMIF('💸 Gastos'!F:F, H65, '💸 Gastos'!G:G)
H66: Comer fuera / Ocio | I66: =SUMIF('💸 Gastos'!F:F, H66, '💸 Gastos'!G:G)
H67: Gasolina / Transporte | I67: =SUMIF('💸 Gastos'!F:F, H67, '💸 Gastos'!G:G)
H68: Luz y Electricidad | I68: =SUMIF('💸 Gastos'!F:F, H68, '💸 Gastos'!G:G)
H69: Agua | I69: =SUMIF('💸 Gastos'!F:F, H69, '💸 Gastos'!G:G)
H70: Vivienda / Alquiler / Hipoteca | I70: =SUMIF('💸 Gastos'!F:F, H70, '💸 Gastos'!G:G)
H71: Internet y Móvil | I71: =SUMIF('💸 Gastos'!F:F, H71, '💸 Gastos'!G:G)
H72: Salud y Farmacia | I72: =SUMIF('💸 Gastos'!F:F, H72, '💸 Gastos'!G:G)
H73: Ropa y Calzado | I73: =SUMIF('💸 Gastos'!F:F, H73, '💸 Gastos'!G:G)
H74: Seguros | I74: =SUMIF('💸 Gastos'!F:F, H74, '💸 Gastos'!G:G)
H75: Ahorro / Inversión | I75: =SUMIF('💸 Gastos'!F:F, H75, '💸 Gastos'!G:G)
H76: Otros | I76: =SUMIF('💸 Gastos'!F:F, H76, '💸 Gastos'!G:G)

Sheet ℹ️ Instrucciones
B2: ℹ️ GUÍA DE USO E INSTRUCCIONES · ECONOMÍA DEL HOGAR
B4: 🚀 1. CÓMO USAR ESTE EXCEL CON LA APP MÓVIL
B5: • Sincronización Automática por Voz: | C5: Al dictar un gasto o ingreso desde la App móvil, se insertará automáticamente en este libro.
B6: • Formato de Reconocimiento: | C6: La app extrae la Fecha, la Cantidad en Euros/Céntimos, la Categoría y el Concepto.
B7: • Ejemplos de Dictado: | C7: "Gasto de 12 euros con 50 céntimos en comida" | "50 céntimos en pan" | "Nómina de 1500 euros"
B9: 🏷️ 2. CÓMO CREAR O EDITAR CATEGORÍAS NUEVAS
B10: • Paso 1 (Acceso a las Listas): | C10: Para ver las pestañas _Listas_Gastos o _Listas_Ingresos:
B11: - En Google Sheets: | C11: Haz clic en el botón ☰ (Todas las hojas) abajo a la izquierda, o ve a Ver > Hojas ocultas.
B12: - En Microsoft Excel: | C12: Haz clic derecho sobre cualquier pestaña de abajo (ej. Dashboard) y selecciona "Mostrar...".
B13: • Paso 2 (Añadir Categoría): | C13: Escribe el nombre de tu nueva categoría en la primera fila vacía al final de la columna A.
B14: • Paso 3 (¡Listo!): | C14: La categoría aparecerá automáticamente en los desplegables de este Excel y en la App móvil.
B16: 📊 3. ESTRUCTURA DE PESTAÑAS Y HOJAS DEL LIBRO
B17: • 📊 Dashboard: | C17: Resumen ejecutivo con indicadores clave, gráficos de gastos por categoría e historial mensual.
B18: • 💰 Ingresos: | C18: Registro detallado de ingresos organizado por meses. Incluye 3 ejemplos por mes para orientarte.
B19: • 💸 Gastos: | C19: Registro detallado de gastos organizado por meses. Incluye 3 ejemplos por mes para orientarte.
B20: • 📅 Resumen Mensual: | C20: Comparativa de Total Ingresos vs Total Gastos y Ahorro resultante mes a mes.
B21: • 🎯 Presupuesto: | C21: Control presupuestario mensual estimado vs gasto real por cada categoría.
B23: 💡 4. CONSEJOS Y BUENAS PRÁCTICAS
B24: • Registros Diarios: | C24: Usa el dictado por voz de la app para registrar tus gastos al momento y no olvidar ninguno.
B25: • Filas de Ejemplo: | C25: Puedes reemplazar o borrar las filas de "Gasto ficticio" / "Ingreso ficticio" cuando añadas tus datos reales.
B26: • Respaldo y Copias: | C26: Tus datos son 100% privados y se almacenan en tu propio Google Drive / Excel.

Sheet 💰 Ingresos
B2: 💰 REGISTRO DE INGRESOS · 2026
B4: Fecha | C4: Año | D4: Mes | E4: Concepto | F4: Categoría | G4: Importe (€) | H4: Cuenta | I4: Notas
B5: ▼ ENERO
B6: 46023 | C6: 2026 | D6: 1 | E6: Ejemplo | F6: Nómina / Salario | G6: 0
B7: 46023 | C7: 2026 | D7: 1 | E7: Ejemplo | F7: Nómina / Salario | G7: 0
B8: 46023 | C8: 2026 | D8: 1 | E8: Ejemplo | F8: Otros | G8: 0
B9: ▼ FEBRERO
B10: 46054 | C10: 2026 | D10: 2 | E10: Ejemplo | F10: Nómina / Salario | G10: 0
B11: 46054 | C11: 2026 | D11: 2 | E11: Ejemplo | F11: Nómina / Salario | G11: 0
B12: 46054 | C12: 2026 | D12: 2 | E12: Ejemplo | F12: Otros | G12: 0
B13: ▼ MARZO
B14: 46082 | C14: 2026 | D14: 3 | E14: Ejemplo | F14: Nómina / Salario | G14: 0
B15: 46082 | C15: 2026 | D15: 3 | E15: Ejemplo | F15: Nómina / Salario | G15: 0
B16: 46082 | C16: 2026 | D16: 3 | E16: Ejemplo | F16: Otros | G16: 0
B17: ▼ ABRIL
B18: 46113 | C18: 2026 | D18: 4 | E18: Ejemplo | F18: Nómina / Salario | G18: 0
B19: 46113 | C19: 2026 | D19: 4 | E19: Ejemplo | F19: Nómina / Salario | G19: 0
B20: 46113 | C20: 2026 | D20: 4 | E20: Ejemplo | F20: Otros | G20: 0
B21: ▼ MAYO
B22: 46143 | C22: 2026 | D22: 5 | E22: Ejemplo | F22: Nómina / Salario | G22: 0
B23: 46143 | C23: 2026 | D23: 5 | E23: Ejemplo | F23: Nómina / Salario | G23: 0
B24: 46143 | C24: 2026 | D24: 5 | E24: Ejemplo | F24: Otros | G24: 0
B25: ▼ JUNIO
B26: 46174 | C26: 2026 | D26: 6 | E26: Ejemplo | F26: Nómina / Salario | G26: 0
B27: 46174 | C27: 2026 | D27: 6 | E27: Ejemplo | F27: Nómina / Salario | G27: 0
B28: 46174 | C28: 2026 | D28: 6 | E28: Ejemplo | F28: Otros | G28: 0
B29: ▼ JULIO
B30: 46204 | C30: 2026 | D30: 7 | E30: Ejemplo | F30: Nómina / Salario | G30: 0
B31: 46204 | C31: 2026 | D31: 7 | E31: Ejemplo | F31: Nómina / Salario | G31: 0
B32: 46204 | C32: 2026 | D32: 7 | E32: Ejemplo | F32: Otros | G32: 0
B33: ▼ AGOSTO
B34: 46235 | C34: 2026 | D34: 8 | E34: Ejemplo | F34: Nómina / Salario | G34: 0
B35: 46235 | C35: 2026 | D35: 8 | E35: Ejemplo | F35: Nómina / Salario | G35: 0
B36: 46235 | C36: 2026 | D36: 8 | E36: Ejemplo | F36: Otros | G36: 0
B37: ▼ SEPTIEMBRE
B38: 46266 | C38: 2026 | D38: 9 | E38: Ejemplo | F38: Nómina / Salario | G38: 0
B39: 46266 | C39: 2026 | D39: 9 | E39: Ejemplo | F39: Nómina / Salario | G39: 0
B40: 46266 | C40: 2026 | D40: 9 | E40: Ejemplo | F40: Otros | G40: 0
B41: ▼ OCTUBRE
B42: 46296 | C42: 2026 | D42: 10 | E42: Ejemplo | F42: Nómina / Salario | G42: 0
...

Sheet 💸 Gastos
B2: 💸 REGISTRO DE GASTOS · 2026
B3: 💡 Usa los botones − / + a la izquierda para ocultar/mostrar cada mes · O sigue las instrucciones de la hoja ⚙️ Macro VBA para activar el click directo
B4: Fecha | C4: Año | D4: Mes | E4: Concepto | F4: Categoría | G4: Importe (€) | H4: Cuenta | I4: Necesario | J4: Notas
B5: ▼ ENERO — clic en − para ocultar
B6: 46023 | C6: 2026 | D6: 1 | E6: Ejemplo | F6: Supermercado / Comida | G6: 0
B7: 46023 | C7: 2026 | D7: 1 | E7: Ejemplo | F7: Luz y Electricidad | G7: 0
B8: 46023 | C8: 2026 | D8: 1 | E8: Ejemplo | F8: Gasolina / Transporte | G8: 0
B9: ▼ FEBRERO — clic en − para ocultar
B10: 46054 | C10: 2026 | D10: 2 | E10: Ejemplo | F10: Supermercado / Comida | G10: 0
B11: 46054 | C11: 2026 | D11: 2 | E11: Ejemplo | F11: Luz y Electricidad | G11: 0
B12: 46054 | C12: 2026 | D12: 2 | E12: Ejemplo | F12: Gasolina / Transporte | G12: 0
B13: ▼ MARZO — clic en − para ocultar
B14: 46082 | C14: 2026 | D14: 3 | E14: Ejemplo | F14: Supermercado / Comida | G14: 0
B15: 46082 | C15: 2026 | D15: 3 | E15: Ejemplo | F15: Luz y Electricidad | G15: 0
B16: 46082 | C16: 2026 | D16: 3 | E16: Ejemplo | F16: Gasolina / Transporte | G16: 0
B17: ▼ ABRIL — clic en − para ocultar
B18: 46113 | C18: 2026 | D18: 4 | E18: Ejemplo | F18: Supermercado / Comida | G18: 0
B19: 46113 | C19: 2026 | D19: 4 | E19: Ejemplo | F19: Luz y Electricidad | G19: 0
B20: 46113 | C20: 2026 | D20: 4 | E20: Ejemplo | F20: Gasolina / Transporte | G20: 0
B21: ▼ MAYO — clic en − para ocultar
B22: 46143 | C22: 2026 | D22: 5 | E22: Ejemplo | F22: Supermercado / Comida | G22: 0
B23: 46143 | C23: 2026 | D23: 5 | E23: Ejemplo | F23: Luz y Electricidad | G23: 0
B24: 46143 | C24: 2026 | D24: 5 | E24: Ejemplo | F24: Gasolina / Transporte | G24: 0
B25: ▼ JUNIO — clic en − para ocultar
B26: 46174 | C26: 2026 | D26: 6 | E26: Ejemplo | F26: Supermercado / Comida | G26: 0
B27: 46174 | C27: 2026 | D27: 6 | E27: Ejemplo | F27: Luz y Electricidad | G27: 0
B28: 46174 | C28: 2026 | D28: 6 | E28: Ejemplo | F28: Gasolina / Transporte | G28: 0
B29: ▼ JULIO — clic en − para ocultar
B30: 46204 | C30: 2026 | D30: 7 | E30: Ejemplo | F30: Supermercado / Comida | G30: 0
B31: 46204 | C31: 2026 | D31: 7 | E31: Ejemplo | F31: Luz y Electricidad | G31: 0
B32: 46204 | C32: 2026 | D32: 7 | E32: Ejemplo | F32: Gasolina / Transporte | G32: 0
B33: ▼ AGOSTO — clic en − para ocultar
B34: 46235 | C34: 2026 | D34: 8 | E34: Ejemplo | F34: Supermercado / Comida | G34: 0
B35: 46235 | C35: 2026 | D35: 8 | E35: Ejemplo | F35: Luz y Electricidad | G35: 0
B36: 46235 | C36: 2026 | D36: 8 | E36: Ejemplo | F36: Gasolina / Transporte | G36: 0
B37: ▼ SEPTIEMBRE — clic en − para ocultar
B38: 46266 | C38: 2026 | D38: 9 | E38: Ejemplo | F38: Supermercado / Comida | G38: 0
B39: 46266 | C39: 2026 | D39: 9 | E39: Ejemplo | F39: Luz y Electricidad | G39: 0
B40: 46266 | C40: 2026 | D40: 9 | E40: Ejemplo | F40: Gasolina / Transporte | G40: 0
B42: ▼ OCTUBRE — clic en − para ocultar
...

Sheet 📅 Resumen Mensual
B2: 📅 RESUMEN MENSUAL · 2026
B4: Mes | C4: Ingresos (€) | D4: Gastos (€) | E4: Balance (€) | F4: Ahorro (%)
B5: Enero | C5: =SUMIF('💰 Ingresos'!D:D,1,'💰 Ingresos'!G:G) | D5: =SUMIF('💸 Gastos'!D:D,1,'💸 Gastos'!G:G) | E5: =C5-D5 | F5: =IF(C5>0,E5/C5,0)
B6: Febrero | C6: =SUMIF('💰 Ingresos'!D:D,2,'💰 Ingresos'!G:G) | D6: =SUMIF('💸 Gastos'!D:D,2,'💸 Gastos'!G:G) | E6: =C6-D6 | F6: =IF(C6>0,E6/C6,0)
B7: Marzo | C7: =SUMIF('💰 Ingresos'!D:D,3,'💰 Ingresos'!G:G) | D7: =SUMIF('💸 Gastos'!D:D,3,'💸 Gastos'!G:G) | E7: =C7-D7 | F7: =IF(C7>0,E7/C7,0)
B8: Abril | C8: =SUMIF('💰 Ingresos'!D:D,4,'💰 Ingresos'!G:G) | D8: =SUMIF('💸 Gastos'!D:D,4,'💸 Gastos'!G:G) | E8: =C8-D8 | F8: =IF(C8>0,E8/C8,0)
B9: Mayo | C9: =SUMIF('💰 Ingresos'!D:D,5,'💰 Ingresos'!G:G) | D9: =SUMIF('💸 Gastos'!D:D,5,'💸 Gastos'!G:G) | E9: =C9-D9 | F9: =IF(C9>0,E9/C9,0)
B10: Junio | C10: =SUMIF('💰 Ingresos'!D:D,6,'💰 Ingresos'!G:G) | D10: =SUMIF('💸 Gastos'!D:D,6,'💸 Gastos'!G:G) | E10: =C10-D10 | F10: =IF(C10>0,E10/C10,0)
B11: Julio | C11: =SUMIF('💰 Ingresos'!D:D,7,'💰 Ingresos'!G:G) | D11: =SUMIF('💸 Gastos'!D:D,7,'💸 Gastos'!G:G) | E11: =C11-D11 | F11: =IF(C11>0,E11/C11,0)
B12: Agosto | C12: =SUMIF('💰 Ingresos'!D:D,8,'💰 Ingresos'!G:G) | D12: =SUMIF('💸 Gastos'!D:D,8,'💸 Gastos'!G:G) | E12: =C12-D12 | F12: =IF(C12>0,E12/C12,0)
B13: Septiembre | C13: =SUMIF('💰 Ingresos'!D:D,9,'💰 Ingresos'!G:G) | D13: =SUMIF('💸 Gastos'!D:D,9,'💸 Gastos'!G:G) | E13: =C13-D13 | F13: =IF(C13>0,E13/C13,0)
B14: Octubre | C14: =SUMIF('💰 Ingresos'!D:D,10,'💰 Ingresos'!G:G) | D14: =SUMIF('💸 Gastos'!D:D,10,'💸 Gastos'!G:G) | E14: =C14-D14 | F14: =IF(C14>0,E14/C14,0)
B15: Noviembre | C15: =SUMIF('💰 Ingresos'!D:D,11,'💰 Ingresos'!G:G) | D15: =SUMIF('💸 Gastos'!D:D,11,'💸 Gastos'!G:G) | E15: =C15-D15 | F15: =IF(C15>0,E15/C15,0)
B16: Diciembre | C16: =SUMIF('💰 Ingresos'!D:D,12,'💰 Ingresos'!G:G) | D16: =SUMIF('💸 Gastos'!D:D,12,'💸 Gastos'!G:G) | E16: =C16-D16 | F16: =IF(C16>0,E16/C16,0)
B17: TOTAL / PROMEDIO | C17: =SUM(C5:C16) | D17: =SUM(D5:D16) | E17: =SUM(E5:E16) | F17: =IF(C17>0,E17/C17,0)

Sheet 🎯 Presupuesto
B2: 🎯 PRESUPUESTO VS REAL · 2026
B4: Categoría | C4: Presupuesto/mes (€) | D4: Real Total (€) | E4: Diferencia (€) | F4: Estado | G4: Periodicidad
B5: Vivienda / Alquiler / Hipoteca | C5: 0 | D5: =SUMIF('💸 Gastos'!F:F, B5, '💸 Gastos'!G:G) | E5: =C5*3-D5 | F5: =IF(E5>=0, "✅ OK", "⚠️ EXCEDIDO") | G5: mensual
B6: Supermercado / Comida | C6: 0 | D6: =SUMIF('💸 Gastos'!F:F, B6, '💸 Gastos'!G:G) | E6: =C6*3-D6 | F6: =IF(E6>=0, "✅ OK", "⚠️ EXCEDIDO") | G6: mensual
B7: Luz y Electricidad | C7: 0 | D7: =SUMIF('💸 Gastos'!F:F, B7, '💸 Gastos'!G:G) | E7: =C7*3-D7 | F7: =IF(E7>=0, "✅ OK", "⚠️ EXCEDIDO") | G7: mensual
B8: Agua | C8: 0 | D8: =SUMIF('💸 Gastos'!F:F, B8, '💸 Gastos'!G:G) | E8: =C8*3-D8 | F8: =IF(E8>=0, "✅ OK", "⚠️ EXCEDIDO") | G8: trimestral
B9: Gas / Calefacción | C9: 0 | D9: =SUMIF('💸 Gastos'!F:F, B9, '💸 Gastos'!G:G) | E9: =C9*3-D9 | F9: =IF(E9>=0, "✅ OK", "⚠️ EXCEDIDO") | G9: mensual
B10: Internet y Móvil | C10: 0 | D10: =SUMIF('💸 Gastos'!F:F, B10, '💸 Gastos'!G:G) | E10: =C10*3-D10 | F10: =IF(E10>=0, "✅ OK", "⚠️ EXCEDIDO") | G10: mensual
B11: Gasolina / Transporte | C11: 0 | D11: =SUMIF('💸 Gastos'!F:F, B11, '💸 Gastos'!G:G) | E11: =C11*3-D11 | F11: =IF(E11>=0, "✅ OK", "⚠️ EXCEDIDO") | G11: mensual
B12: Comer fuera / Ocio | C12: 0 | D12: =SUMIF('💸 Gastos'!F:F, B12, '💸 Gastos'!G:G) | E12: =C12*3-D12 | F12: =IF(E12>=0, "✅ OK", "⚠️ EXCEDIDO") | G12: mensual
B13: Ropa y Calzado | C13: 0 | D13: =SUMIF('💸 Gastos'!F:F, B13, '💸 Gastos'!G:G) | E13: =C13*3-D13 | F13: =IF(E13>=0, "✅ OK", "⚠️ EXCEDIDO") | G13: mensual
B14: Salud y Farmacia | C14: 0 | D14: =SUMIF('💸 Gastos'!F:F, B14, '💸 Gastos'!G:G) | E14: =C14*3-D14 | F14: =IF(E14>=0, "✅ OK", "⚠️ EXCEDIDO") | G14: mensual
B15: Hogar y Mantenimiento | C15: 0 | D15: =SUMIF('💸 Gastos'!F:F, B15, '💸 Gastos'!G:G) | E15: =C15*3-D15 | F15: =IF(E15>=0, "✅ OK", "⚠️ EXCEDIDO") | G15: mensual
B16: Suscripciones | C16: 0 | D16: =SUMIF('💸 Gastos'!F:F, B16, '💸 Gastos'!G:G) | E16: =C16*3-D16 | F16: =IF(E16>=0, "✅ OK", "⚠️ EXCEDIDO") | G16: mensual
... B24: Otros | C24: 0 | D24: =SUMIF('💸 Gastos'!F:F, B24, '💸 Gastos'!G:G) | E24: =C24*3-D24 | F24: =IF(E24>=0, "✅ OK", "⚠️ EXCEDIDO") | G24: mensual
B25: TOTAL PRESUPUESTO | C25: =SUM(C5:C24) | D25: =SUM(D5:D24) | E25: =SUM(E5:E24)

Sheet _Listas_Gastos
A1: Vivienda / Alquiler / Hipoteca
A2: Supermercado / Comida
A3: Luz y Electricidad
A4: Agua
A5: Gas / Calefacción
A6: Internet y Móvil
A7: Gasolina / Transporte
A8: Comer fuera / Ocio
A9: Ropa y Calzado
A10: Salud y Farmacia
A11: Hogar y Mantenimiento
A12: Suscripciones
... A20: Otros

Sheet _Listas_Ingresos
A1: Nómina / Salario
A2: Paga Extra
A3: Rendimientos / Inversiones
A4: Bizum / Transferencias
A5: Ventas segunda mano
A6: Otros

Sheet _Listas_Periodicidad
A1: mensual
A2: bimensual
A3: anual
A4: anual en 2
A5: algunos meses
A6: trimestral
